BEGIN:VCALENDAR
VERSION:2.0
PRODID:-// - ECPv6.15.6//NONSGML v1.0//EN
CALSCALE:GREGORIAN
METHOD:PUBLISH
X-ORIGINAL-URL:https://www.productiehuiscruz.nl
X-WR-CALDESC:Evenementen voor 
REFRESH-INTERVAL;VALUE=DURATION:PT1H
X-Robots-Tag:noindex
X-PUBLISHED-TTL:PT1H
BEGIN:VTIMEZONE
TZID:Europe/Amsterdam
BEGIN:DAYLIGHT
TZOFFSETFROM:+0100
TZOFFSETTO:+0200
TZNAME:CEST
DTSTART:20230326T010000
END:DAYLIGHT
BEGIN:STANDARD
TZOFFSETFROM:+0200
TZOFFSETTO:+0100
TZNAME:CET
DTSTART:20231029T010000
END:STANDARD
BEGIN:DAYLIGHT
TZOFFSETFROM:+0100
TZOFFSETTO:+0200
TZNAME:CEST
DTSTART:20240331T010000
END:DAYLIGHT
BEGIN:STANDARD
TZOFFSETFROM:+0200
TZOFFSETTO:+0100
TZNAME:CET
DTSTART:20241027T010000
END:STANDARD
BEGIN:DAYLIGHT
TZOFFSETFROM:+0100
TZOFFSETTO:+0200
TZNAME:CEST
DTSTART:20250330T010000
END:DAYLIGHT
BEGIN:STANDARD
TZOFFSETFROM:+0200
TZOFFSETTO:+0100
TZNAME:CET
DTSTART:20251026T010000
END:STANDARD
END:VTIMEZONE
BEGIN:VEVENT
DTSTART;TZID=Europe/Amsterdam:20240316T200000
DTEND;TZID=Europe/Amsterdam:20240316T223000
DTSTAMP:20260423T170446
CREATED:20240306T032211Z
LAST-MODIFIED:20240306T032938Z
UID:1727-1710619200-1710628200@www.productiehuiscruz.nl
SUMMARY:Islemunda in Concert
DESCRIPTION:Het is feest! Onze programmapartner Podium Islemunda bestaat 10 jaar! \nOp 16 maart 2024 organiseert Productiehuis Cruz een speciale concertavond ter ere van het 10-jarig bestaan van dit prachtige podium. We hebben een line-up samengesteld met artiesten die een speciale band hebben met Podium Islemunda en die je zeker zullen betoveren. \nWe worden hartelijk ontvangen door artiest en gastvrouw Bernadette Pires.\nVervolgens worden we meegevoerd door de geweldige optredens van Yuli Minguel\, Poliana Vieira\, Amanda Almeida\, Vania Da Cruz\, Elizabeth van Persie\, Arnaldo Lima en de Muzieksalon Islemunda\, bestaande uit Cor de Bruijn\, Anna Maria van Heezik en Cees Rozendaal. Het belooft een heerlijk feest te worden! \nGeniet van heerlijke r&b\, soul\, bluesrock\, cabozouk\, country pop\, jazz en funkmuziek\, allemaal onder begeleiding van onze huisband\, bestaande uit Eric Guinee\, Emil Klomberg\, Guus Veldman\, Megan Davis en Djuwney. \nIslemunda In Concert\nZaterdag 16 maart 2024\n19:00 Deuren open\n20:00 Start concert! \nEntree\nVoorverkoop € 7\,50\nDeurverkoop € 10\nKaarten zijn via deze link te koop: https://islemunda.stager.co/web/tickets/111319562 \nLaat je hart verwarmen door de muziek en vier het 10-jarig bestaan van Podium Islemunda met ons mee!
URL:https://www.productiehuiscruz.nl/event/islemunda-in-concert/
LOCATION:Podium Islemunda\, Herenwaard 17\, Rotterdam\, 3078 AK\, Nederland
CATEGORIES:Homepage,Muziek
ATTACH;FMTTYPE=image/jpeg:https://www.productiehuiscruz.nl/wp-content/uploads/2024/03/425368492_902827001845490_1218864996579138711_n.jpg
ORGANIZER;CN="Productiehuis Cruz":MAILTO:info@productiehuiscruz.nl
END:VEVENT
END:VCALENDAR